BEGIN:VCALENDAR
VERSION:2.0
PRODID:-//PCTT Tenerife - ECPv6.15.13.1//NONSGML v1.0//EN
CALSCALE:GREGORIAN
METHOD:PUBLISH
X-WR-CALNAME:PCTT Tenerife
X-ORIGINAL-URL:https://intechtenerife.es
X-WR-CALDESC:Eventos para PCTT Tenerife
REFRESH-INTERVAL;VALUE=DURATION:PT1H
X-Robots-Tag:noindex
X-PUBLISHED-TTL:PT1H
BEGIN:VTIMEZONE
TZID:UTC
BEGIN:STANDARD
TZOFFSETFROM:+0000
TZOFFSETTO:+0000
TZNAME:UTC
DTSTART:20250101T000000
END:STANDARD
END:VTIMEZONE
BEGIN:VEVENT
DTSTART;TZID=UTC:20260119T080000
DTEND;TZID=UTC:20260119T170000
DTSTAMP:20260424T160546
CREATED:20260119T131553Z
LAST-MODIFIED:20260119T132314Z
UID:15206-1768809600-1768842000@intechtenerife.es
SUMMARY:PRECE CANARIAS. San Cristóbal de la Laguna
DESCRIPTION:Autoempleo y Creación de Empresas Crea tu idea de negocio con herramientas digitales. San Cristóbal de la Laguna \n\n\n\nEl objetivo del programa es fortalecer los conocimientos y habilidades en el uso de herramientas digitales\, con el fin de aplicarlos de manera efectiva en la creación o consolidación de un proyecto de emprendimiento. \n\n\n\nCofinanciado por el PROGRAMA ESTATAL FSE+ DE LA COMUNIDAD AUTONOMA DE CANARIAS\, EN EL TRAMO ESTATAL DE LA PRIORIDAD DE REGION ULTRAPERIFÉRICA (RUP) CCI2021ES055FPR009 a través de la Fundación INCYDE y el Cabildo de Tenerife\, a través del Parque Científico y Tecnológico de Tenerife con fondos FDCAN. \n\n\n\nDirigido a\n\n\n\n\nCualquier persona que tenga una idea de negocio o que quiera mejorar sus conocimientos en diseñar o controlar un proyecto de transformación digital para mejorar su proyecto empresarial y oportunidades profesionales.\n\n\n\nEmprendedores y/o empresarios que quieran consolidar su negocio en\, mejorar la rentabilidad de su empresa en diseñar o controlar un proyecto de transformación digital o evaluar otras alternativas de expansión.\n\n\n\n\nObjetivos\n\n\n\nProporcionarle la formación teórica\, la capacitación tecnológica básica\, el conocimiento práctico\, contando con el adecuado apoyo y monitorización de especialistas para que esto sea posible. \n\n\n\nContar con los conocimientos básicos necesarios para desarrollar una actividad por cuenta ajena o propia como gestor de proyectos de Factoría Digital en medianas y pequeñas empresas industriales.
URL:https://intechtenerife.es/event/prece-canarias-san-cristobal-de-la-laguna/
CATEGORIES:Formación
ATTACH;FMTTYPE=image/jpeg:https://intechtenerife.es/wp-content/uploads/2026/01/laura-WEB-Crea-tu-idea-de-negocio-San-Cristobal-de-la-Laguna-dic-2025-scaled.jpg
END:VEVENT
END:VCALENDAR