BEGIN:VCALENDAR
VERSION:2.0
PRODID:-//PCTT Tenerife - ECPv6.15.13.1//NONSGML v1.0//EN
CALSCALE:GREGORIAN
METHOD:PUBLISH
X-WR-CALNAME:PCTT Tenerife
X-ORIGINAL-URL:https://intechtenerife.es
X-WR-CALDESC:Eventos para PCTT Tenerife
REFRESH-INTERVAL;VALUE=DURATION:PT1H
X-Robots-Tag:noindex
X-PUBLISHED-TTL:PT1H
BEGIN:VTIMEZONE
TZID:UTC
BEGIN:STANDARD
TZOFFSETFROM:+0000
TZOFFSETTO:+0000
TZNAME:UTC
DTSTART:20250101T000000
END:STANDARD
END:VTIMEZONE
BEGIN:VEVENT
DTSTART;TZID=UTC:20260223T000000
DTEND;TZID=UTC:20260223T235959
DTSTAMP:20260424T160428
CREATED:20260119T131429Z
LAST-MODIFIED:20260119T132302Z
UID:15203-1771804800-1771891199@intechtenerife.es
SUMMARY:PRECE CANARIAS
DESCRIPTION:Autoempleo y Creación de Empresas Marketing con IA. Santa Cruz de Tenerife \n\n\n\nEste programa formativo tiene como objetivo formar a profesionales y emprendedores en el uso práctico de la Inteligencia Artificial (IA) para optimizar estrategias de marketing digital\, mejorar la toma de decisiones y aumentar la competitividad de sus proyectos o negocios. \n\n\n\nEn un entorno donde la transformación digital avanza rápidamente\, muchas empresas carecen de conocimientos especializados para integrar tecnologías como la IA en sus procesos de marketing. Este programa responde a esa necesidad\, ofreciendo una formación accesible\, sin requerir conocimientos técnicos previos\, y orientada a resultados reales. \n\n\n\nCofinanciado por el Programa Estatal de FSE+ de la Comunidad Autónoma de Canarias\, en el tramo estatal de la prioridad de Región Ultraperiférica (RUP) CCI2021ES05SFPR009 a través de la Fundación INCYDE y el Cabildo de Tenerife\, a través de Parque Científico y Tecnológico de Tenerife con fondos FDCAN. \n\n\n\nDirigido a\n\n\n\n\nCualquier persona que tenga una idea de negocio o que quiera mejorar sus conocimientos en diseñar o controlar un proyecto de transformación digital hacia la Inteligencia Artificial para mejorar su proyecto empresarial y oportunidades profesionales.\n\n\n\nEmprendedores y/o empresarios que quieran consolidar su negocio en\, mejorar la rentabilidad de su empresa en diseñar o controlar un proyecto de transformación digital hacia la Inteligencia Artificial o evaluar otras alternativas de expansión.\n\n\n\n\nObjetivos\n\n\n\nReflexionar sobre el uso ético y estratégico de la IA en entornos empresariales. \n\n\n\nComprender los fundamentos de la IA y su impacto en el marketing digital. \n\n\n\nUtilizar herramientas de IA para automatizar campañas\, segmentar audiencias\, personalizar contenidos y analizar datos. \n\n\n\nAplicar casos prácticos de IA en SEO\, publicidad digital\, email marketing\, redes sociales y analítica web.
URL:https://intechtenerife.es/event/prece-canarias/
CATEGORIES:Formación
ATTACH;FMTTYPE=image/jpeg:https://intechtenerife.es/wp-content/uploads/2026/01/laura-WEB-Marketing-con-IA-Santa-Cruz-de-Tenerife-dic-2025-scaled.jpg
END:VEVENT
END:VCALENDAR